BEGIN:VCALENDAR
VERSION:2.0
PRODID:-//IQSOFT - ECPv6.15.20//NONSGML v1.0//EN
CALSCALE:GREGORIAN
METHOD:PUBLISH
X-WR-CALNAME:IQSOFT
X-ORIGINAL-URL:https://iqedu.hu
X-WR-CALDESC:Események IQSOFT
REFRESH-INTERVAL;VALUE=DURATION:PT1H
X-Robots-Tag:noindex
X-PUBLISHED-TTL:PT1H
BEGIN:VTIMEZONE
TZID:Europe/Budapest
BEGIN:DAYLIGHT
TZOFFSETFROM:+0100
TZOFFSETTO:+0200
TZNAME:CEST
DTSTART:20250330T010000
END:DAYLIGHT
BEGIN:STANDARD
TZOFFSETFROM:+0200
TZOFFSETTO:+0100
TZNAME:CET
DTSTART:20251026T010000
END:STANDARD
BEGIN:DAYLIGHT
TZOFFSETFROM:+0100
TZOFFSETTO:+0200
TZNAME:CEST
DTSTART:20260329T010000
END:DAYLIGHT
BEGIN:STANDARD
TZOFFSETFROM:+0200
TZOFFSETTO:+0100
TZNAME:CET
DTSTART:20261025T010000
END:STANDARD
BEGIN:DAYLIGHT
TZOFFSETFROM:+0100
TZOFFSETTO:+0200
TZNAME:CEST
DTSTART:20270328T010000
END:DAYLIGHT
BEGIN:STANDARD
TZOFFSETFROM:+0200
TZOFFSETTO:+0100
TZNAME:CET
DTSTART:20271031T010000
END:STANDARD
END:VTIMEZONE
BEGIN:VEVENT
DTSTART;TZID=Europe/Budapest:20261001T090000
DTEND;TZID=Europe/Budapest:20261002T170000
DTSTAMP:20260423T211548
CREATED:20260126T132352Z
LAST-MODIFIED:20260223T144535Z
UID:26731-1790845200-1790960400@iqedu.hu
SUMMARY:Advanced Scrum Master Training
DESCRIPTION:A Scrum Master szerepkör kulcsfontosságú és rendkívül összetett a Scrum keretrendszerben. Bár sokan elsőre a projektmenedzseri feladatkörhöz hasonlítják\, a két szerep között jelentős különbségek vannak: a Scrum Master nem felelős a projekttervezésért és a projekt kontrolljáért. \nA Scrum Master valódi feladata\, hogy támogassa a csapat önszerveződését\, és hozzájáruljon a fejlesztési folyamat hatékony működéséhez. Ennek érdekében segíti és fejleszti az együttműködést a csapat\, a Product Owner\, valamint az érintettek (stakeholderek)\, akár a menedzsment között is. \nEz a haladó képzés a Scrum Master szerepkör alapjainak áttekintésével indul\, majd mélyebben foglalkozik a haladó eszközökkel és technikákkal\, amelyekkel a résztvevők valódi „Change Agent”-ként\, azaz változást támogató és elindító szakemberként tudják segíteni nemcsak a saját csapatukat\, hanem akár a teljes szervezetet is. \nA képzés célja\nA képzés célja\, hogy a résztvevők: \n\nmagabiztosabbá váljanak a Scrum Master haladó feladatköreiben\,\nfejlesszék coaching és facilitátori képességeiket\,\nhatékonyabban támogassák a csapatok együttműködését és önszerveződését\,\núj eszköztárat kapjanak a folyamatos fejlesztés\, feedback-kultúra és motiváció területén\,\na Scrum Master szerepet valódi szervezeti szintű támogatóként\, „Change Agent”-ként tudják betölteni.\n\nKinek ajánljuk?\nA képzés ajánlott: \n\naktív Scrum Mastereknek\, akik szeretnék fejleszteni haladó kompetenciáikat\,\nolyan szakembereknek\, akik Scrum Master irányba szeretnék továbbépíteni karrierjüket\,\nmindazoknak\, akik szeretnék jobban érteni és támogatni a csapatszintű és szervezeti szintű agilis működést.\n\nOnline képzés – technikai információk\n\nA képzés online formában\, Zoom platformon kerül megrendezésre.\nA résztvevők a képzés előtt egyedi belépési linket kapnak.\nA szükséges technikai információkat legkésőbb 24 órával a képzés kezdete előtt küldjük.\nA részvételhez szükséges: kamerával rendelkező eszköz és stabil internetkapcsolat.\nEgy online modul időtartama: 3\,5–4 óra.\nA résztvevők számára angol nyelvű PDF handout kerül biztosításra.
URL:https://iqedu.hu/tanfolyam/scrum-master-advanced-kepzes/
ATTACH;FMTTYPE=image/jpeg:https://iqedu.hu/wp-content/uploads/2026/01/jo-szczepanska-5aiRb5f464A-unsplash-scaled.jpg
END:VEVENT
BEGIN:VEVENT
DTSTART;TZID=Europe/Budapest:20261008T090000
DTEND;TZID=Europe/Budapest:20261009T170000
DTSTAMP:20260423T211548
CREATED:20260107T142920Z
LAST-MODIFIED:20260126T093037Z
UID:26514-1791450000-1791565200@iqedu.hu
SUMMARY:Six Sigma Black Belt + TÜV vizsga
DESCRIPTION:A Six Sigma Black Belt képzés célja a Six Sigma Green Belt szinten megszerzett ismeretek mélyítése és rendszerszintű kibővítése. Míg a Green Belt képzés során a módszertanok és eszközök gyakorlati alkalmazása áll a fókuszban\, ezen a tanfolyamon a résztvevők alapos matematikai és statisztikai háttértudást szereznek\, amely lehetővé teszi az összetett technológiai és folyamatbeli problémák önálló\, magas szintű elemzését. \nA képzés felkészít arra\, hogy a résztvevők önállóan válasszák ki az adott problémához legmegfelelőbb elemzési módszertant\, szükség esetén több\, egymást kiegészítő technika együttes alkalmazásával. Az eredmények helyes értelmezése révén gyorsan és megalapozottan tudnak dönteni a szükséges beavatkozás módjáról és mértékéről. \nA képzés célja\nA Six Sigma Black Belt program célja\, hogy a résztvevők: \n\nmélyreható statisztikai és módszertani ismereteket szerezzenek\,\nképesek legyenek komplex folyamat- és technológiai problémák elemzésére\,\nüzleti szempontból is értelmezhető\, mérhető eredményeket hozó fejlesztési projekteket vezessenek\,\na Six Sigma módszertant stratégiai szinten alkalmazzák.\n\nA képzés hangsúlyt fektet arra\, hogy a módszerek valós vállalati környezetben is azonnal alkalmazhatók legyenek. \nKiknek ajánljuk?\nA Six Sigma Black Belt képzés elsősorban azoknak ajánlott\, akik: \n\nmár rendelkeznek Six Sigma Green Belt minősítéssel\,\nminőségirányítási\, folyamatfejlesztési vagy üzleti hatékonyságjavító projektekben vesznek részt\,\nműszaki\, pénzügyi vagy folyamatmenedzsment háttérrel rendelkeznek\,\nvezetői vagy tanácsadói szerepkörben szeretnének komplex Six Sigma projektekért felelni.\n\nA Six Sigma módszertan alkalmazható: \n\na gyártóiparban\,\na szolgáltatási szektorban\,\ntranzakciós környezetekben (pl. banki\, IT\, adminisztratív folyamatok)\,\nkisebb fejlesztési\, adminisztratív vagy üzleti folyamatok optimalizálására is.\n\nMiért hatékony a Six Sigma módszer?\nA Six Sigma egy adatvezérelt\, strukturált minőségfejlesztési módszertan\, amely célja a hibák számának drasztikus csökkentése. A fejlesztések célértéke akár 3–4 hiba egymillió műveletre vetítve\, ami jelentős: \n\nköltségcsökkenést\,\nveszteségminimalizálást\,\nügyfélelégedettség-növekedést eredményez.\n\nA módszer sikerének kulcsa a pontos\, releváns és költséghatékony adatgyűjtés\, valamint a statisztikai elemző eszközök intenzív használata. \nMiben más a mi Six Sigma Black Belt képzésünk?\n🚀 Valódi szakmai előrelépés\nKivétel nélkül minden korábbi Black Belt végzősünk a minősítés megszerzését követő 1 éven belül magasabb pozícióba került – akár saját\, akár új munkahelyén. \n💰 Gyorsan megtérülő képzés\nA kidolgozott\, megvédett valós Black Belt projektek kivétel nélkül bevezetésre kerültek\, és a résztvevőket delegáló cégek a képzési díj többszörösét realizálták megtérülésként. \n🧠 Gyakorlatközpontú oktatás\nA képzés során a hallgatók projektjeit oktatóink személyes konzultációkkal támogatják\, összesen 120–150 perc időtartamban. Ez magában foglalhat: \n\nvéleményezést\,\nszakmai tanácsadást\,\nszemélyes megbeszéléseket\,\nprojektanyagok átolvasását.\n\nKépzési információk\n\nRészvétel feltétele: Six Sigma Green Belt fokozat megléte és igazolása\nKépzés időtartama: 8 + 1 nap\nVizsga:\n\nírásbeli vizsga\nSix Sigma Black Belt projekt szóbeli prezentációja\n\n\nMegszerezhető minősítés: Six Sigma Black Belt (Fekete Öves) tanúsítvány\n\nMinősítés feltételei\nA Six Sigma Black Belt fokozat megszerzésének feltétele: \n\neredményes vizsga a tanult módszerekből és statisztikai ismeretekből\,\negy sikeres\, igazolt üzleti eredményt hozó projekt bemutatása és megvédése.\n\nA tanúsítvány igazolja\, hogy birtokosa képes: \n\nfejlesztési igények átfogó értékelésére\,\nprojektek priorizálására az erőforrások figyelembevételével\,\na megfelelő Six Sigma módszerek kiválasztására\,\nvalamint üzleti eredményt hozó fejlesztési projektek vezetésére.\n\nA képzési díj tartalmazza a TÜV vizsga és tanúsítvány árát is. Sikeres vizsga esetén a TÜV tanúsítvány magyar\, angol\, vagy német nyelven kérhető. A tanúsítvány elkészítése hozzávetőleg 4 hetet vesz igénybe. \nTovábbi képzési napok: 2026. 10. 29-30.\, 2026. 11. 19-20.\, 2026. 12. 10-11. Vizsga: 2027. 02. 12.
URL:https://iqedu.hu/tanfolyam/six-sigma-black-belt-kepzes-2/
ATTACH;FMTTYPE=image/jpeg:https://iqedu.hu/wp-content/uploads/2026/01/deng-xiang-WXQm_NTK0U-unsplash-scaled.jpg
END:VEVENT
BEGIN:VEVENT
DTSTART;TZID=Europe/Budapest:20261014T090000
DTEND;TZID=Europe/Budapest:20261016T170000
DTSTAMP:20260423T211548
CREATED:20260114T150836Z
LAST-MODIFIED:20260114T150836Z
UID:26608-1791968400-1792170000@iqedu.hu
SUMMARY:GDPR 2026: Adatvédelem a gyakorlatban
DESCRIPTION:A GDPR megfelelés a bevezetés óta folyamatosan fejlődik: új hatósági állásfoglalások\, jogesetek és gyakorlati elvárások formálják azt\, hogy egy szervezetnek hogyan kell az adatkezelési folyamatait működtetnie és dokumentálnia. A frissen kinevezett DPO-k\, adatvédelmi felelősök és compliance szerepkörben dolgozó szakemberek gyakran csak a gyakorlatban szembesülnek azokkal a kérdésekkel\, amelyekre az „alap” tudás nem mindig ad egyértelmű választ. \nA DPO Expert képzés kifejezetten azoknak szól\, akik már rendelkeznek GDPR alapokkal\, de szeretnék a tudásukat hatósági joggyakorlatra építve elmélyíteni\, és magabiztosan kezelni a valódi\, szervezeti működés során felmerülő dilemmákat. \nA képzés külön erőssége a dokumentációkészítő modul\, amely nem sablonokat ad „mindenre ráhúzható” megoldásként\, hanem megtanítja azt a gondolkodásmódot és módszertant\, amellyel a résztvevők saját szervezetükre szabva tudják felépíteni a szükséges adatvédelmi dokumentációt. \nA képzés célja\,\nhogy a résztvevők naprakész\, gyakorlati tudást szerezzenek a GDPR alkalmazásához 2026-ban\, különös tekintettel: \n\naz adatvédelmi hatósági joggyakorlat főbb irányaira\,\na Hatóság által meghatározott prioritások és jogértelmezések megértésére\,\nvalamint az Adatvédelmi Munkacsoport (29-es Munkacsoport) ajánlásainak gyakorlati alkalmazására.\n\nA tanfolyam további célja\, hogy a résztvevők megismerjék a GDPR dokumentumkészítés: \n✅ szempontjait és logikáját✅ folyamatát és módszertanát✅ auditálható\, követhető felépítését \nA képzés során a résztvevők egy kitalált példaszervezet működésén keresztül közösen készítik el a legfontosabb dokumentumokat\, így a tanultak könnyen átültethetők lesznek saját szervezeti környezetbe. \nMit tanulsz meg a képzésen? (gyakorlati fókusz)\nA képzés során olyan dokumentációk elkészítésének logikáját és felépítését sajátítod el\, mint például: \n\n\nAdatkezelési tájékoztatók \n\n\nIncidenskezelési szabályzat \n\n\nAdatvédelmi incidens nyilvántartás \n\n\nAdatkezelések nyilvántartása \n\n\nAdatkezelési szabályzat \n\n\nés további\, a szervezeti megfelelést támogató adatvédelmi dokumentumok \n\n\nA cél\, hogy ne csak „mintákat láss”\, hanem megtanuld\, hogyan lehet a GDPR elvárásoknak megfelelő anyagokat önállóan felépíteni\, a szervezet típusától és tevékenységétől függetlenül. \n\nKinek ajánljuk?\nA DPO Expert képzés olyan szakembereknek szól\, akik már megszerezték a GDPR alapokat\, és a mindennapi munkájuk során egyre több gyakorlati kérdéssel találkoznak. \nAjánljuk többek között: \n\nadatvédelmi tisztviselőknek (DPO)\nadatvédelmi felelősöknek és compliance munkatársaknak\nHR\, ügyfélszolgálati\, adminisztratív területek vezetőinek\ninformációbiztonsági és IT szakembereknek\, akik GDPR-hoz kapcsolódó feladatokat is kezelnek\njogászoknak\, akik szervezeti adatvédelmi feladatokat támogatnak\nazoknak\, akik a GDPR folyamatok bevezetésében\, működtetésében és fejlesztésében vesznek részt\n\nA képzés különösen hasznos\, ha: \n\nmár van elméleti tudásod\, de gyakorlati dilemmákra keresel választ\nszeretnéd látni\, hogyan értelmezi a GDPR-t a hatóság a valós életben\nsegítséget szeretnél a GDPR dokumentáció felépítésében és elkészítésében\n\nKépzési információk\n\nKépzés hossza: 3 nap\nVizsga: gyakorlati feladat\nMegszerezhető dokumentum: DPO Expert tanúsítvány\n\nMiért érdemes jelentkezni?\nA DPO szerepkörben nem elég az elmélet – a hatósági elvárások és a szervezeti gyakorlat együtt határozzák meg\, mi számít valódi megfelelésnek. \nEzzel a képzéssel: \n✅ hatósági iránymutatások mentén fejleszted a GDPR tudásod✅ gyakorlatban is használható módszertant kapsz a dokumentációkhoz✅ gyorsabban és magabiztosabban tudsz dönteni adatvédelmi helyzetekben✅ csökkentheted a szervezeti kockázatokat és a hibalehetőségeket
URL:https://iqedu.hu/tanfolyam/dpo-expert-kepzes-gdpr-joggyakorlat-dokumentacio/
ATTACH;FMTTYPE=image/png:https://iqedu.hu/wp-content/uploads/2026/01/ChatGPT-Image-2026.-jan.-14.-16_06_42.png
END:VEVENT
BEGIN:VEVENT
DTSTART;TZID=Europe/Budapest:20261019T090000
DTEND;TZID=Europe/Budapest:20261020T170000
DTSTAMP:20260423T211548
CREATED:20260223T145906Z
LAST-MODIFIED:20260223T145906Z
UID:26999-1792400400-1792515600@iqedu.hu
SUMMARY:Advanced Certified ScrumMaster
DESCRIPTION:A Scrum az egyik legismertebb agilis termékfejlesztési keretrendszer\, amely segíti a csapatokat abban\, hogy valódi ügyféligényeket kielégítő\, magas minőségű termékeket hozzanak létre. Bár eredetileg szoftverfejlesztéshez alkalmazták\, a Scrum módszertan sikeresen használható nem szoftveres projektekben is\, például szervezeti változásmenedzsment vagy szolgáltatásfejlesztési területeken. \nAz Advanced Certified ScrumMaster (A-CSM) képzés célja\, hogy a már tapasztalt Scrum Masterek számára mélyebb tudást és magasabb szintű kompetenciákat biztosítson. A képzés a lean és agilis alapelvekre épít\, különös hangsúlyt fektetve a változások kezelésére\, a minőség folyamatos javítására és az üzleti érték maximalizálására. \nA Scrum Master szerepe jelentősen eltér a hagyományos projektmenedzseri szerepkörtől. A Scrum Master nem irányítja és nem kontrollálja a projektet\, hanem támogatja a csapat önszerveződését\, segíti az együttműködést a Product Owner és a fejlesztőcsapat között\, valamint elősegíti az agilis gondolkodás elmélyülését a szervezetben. \nA képzés során a résztvevők megtanulják: \n\nhogyan facilitáljanak hatékony párbeszédet a Product Owner\, a Scrum csapat\, az ügyfelek és a vezetők között\nhogyan kezeljék a változással szembeni ellenállást\nhogyan növeljék az elköteleződést és a felelősségvállalást\nhogyan skálázzák az agilis működést több csapatra vagy szervezeti szintre\n\nA kétnapos\, intenzív tréning interaktív gyakorlatokon keresztül segíti a résztvevőket abban\, hogy saját tapasztalataikra építve mélyítsék el tudásukat. \nA tanfolyam és az online vizsga sikeres teljesítése után a résztvevők megszerzik az Advanced Certified ScrumMaster (A-CSM) minősítést\, valamint két évre szóló Scrum Alliance tagságot. \n\nA képzés célja\, hogy a résztvevők\n\nmagasabb szinten legyenek képesek támogatni az agilis csapatokat\nhatékonyabban kezeljék a szervezeti akadályokat\nfejlesszék coaching és facilitációs készségeiket\nképesek legyenek az agilis működés szervezeti szintű támogatására\n\nCélcsoport\n\nMinősített Scrum Masterek\nTapasztalt agilis szakemberek\nOlyan Scrum Masterek\, akik mélyíteni szeretnék szakmai tudásukat\n\nTanúsítás és technikai információk\n\nOnline vizsga a Scrum Alliance rendszerében\nSikeres vizsga esetén A-CSM minősítés\n2 év Scrum Alliance tagság\nPMP minősítettek számára PDU pont beszámítható\nA képzés Zoom platformon zajlik\nKamera és stabil internetkapcsolat szükséges\nA teljes képzési időn való részvétel kötelező
URL:https://iqedu.hu/tanfolyam/advanced-certified-scrummaster-acsm-kepzes/
ATTACH;FMTTYPE=image/jpeg:https://iqedu.hu/wp-content/uploads/2026/01/eden-constantino-iJg1YzsEfqo-unsplash-scaled.jpg
END:VEVENT
END:VCALENDAR