BEGIN:VCALENDAR
VERSION:2.0
PRODID:-//IQSOFT - ECPv6.15.20//NONSGML v1.0//EN
CALSCALE:GREGORIAN
METHOD:PUBLISH
X-ORIGINAL-URL:https://iqedu.hu
X-WR-CALDESC:Események IQSOFT
REFRESH-INTERVAL;VALUE=DURATION:PT1H
X-Robots-Tag:noindex
X-PUBLISHED-TTL:PT1H
BEGIN:VTIMEZONE
TZID:Europe/Budapest
BEGIN:DAYLIGHT
TZOFFSETFROM:+0100
TZOFFSETTO:+0200
TZNAME:CEST
DTSTART:20250330T010000
END:DAYLIGHT
BEGIN:STANDARD
TZOFFSETFROM:+0200
TZOFFSETTO:+0100
TZNAME:CET
DTSTART:20251026T010000
END:STANDARD
BEGIN:DAYLIGHT
TZOFFSETFROM:+0100
TZOFFSETTO:+0200
TZNAME:CEST
DTSTART:20260329T010000
END:DAYLIGHT
BEGIN:STANDARD
TZOFFSETFROM:+0200
TZOFFSETTO:+0100
TZNAME:CET
DTSTART:20261025T010000
END:STANDARD
BEGIN:DAYLIGHT
TZOFFSETFROM:+0100
TZOFFSETTO:+0200
TZNAME:CEST
DTSTART:20270328T010000
END:DAYLIGHT
BEGIN:STANDARD
TZOFFSETFROM:+0200
TZOFFSETTO:+0100
TZNAME:CET
DTSTART:20271031T010000
END:STANDARD
END:VTIMEZONE
BEGIN:VEVENT
DTSTART;TZID=Europe/Budapest:20261109T090000
DTEND;TZID=Europe/Budapest:20261113T170000
DTSTAMP:20260423T230055
CREATED:20250417T212512Z
LAST-MODIFIED:20260304T135634Z
UID:22635-1794214800-1794589200@iqedu.hu
SUMMARY:Understanding Cisco Data Center Foundations
DESCRIPTION:A Cisco Data Center Foundations képzés (DCFNDU) alapvető ismereteket nyújt a modern adatközponti infrastruktúrák működéséről. A képzés során a résztvevők megismerik a Cisco adatközponti technológiák alapjait\, beleértve a hálózatépítést\, virtualizációt\, tárolási megoldásokat és az egységes számítási infrastruktúrát. \nA tanfolyam célja\, hogy felkészítse a résztvevőket entry-level data center szerepkörökre\, valamint alapot adjon további Cisco adatközponti képzésekhez. \nA képzés során a résztvevők gyakorlati tapasztalatot szereznek a Cisco Nexus Operating System (NX-OS) és a Cisco Unified Computing System (UCS) konfigurálásában. A tanfolyam emellett bemutatja a Cisco ACI\, automatizáció és cloud computing alapjait. \nA képzés 25 Continuing Education (CE) kreditet biztosít a Cisco minősítések megújításához. \nA képzés célja\, hogy\na résztvevők átfogó képet kapjanak a Cisco adatközponti infrastruktúrák működéséről és technológiáiról. \nA képzés során a résztvevők megtanulják: \n\naz adatközponti hálózatok alapjait\nCisco Nexus eszközök működését\nvirtualizációs technológiákat\nadatközponti tárolási megoldásokat\nautomatizációs és felhő alapfogalmakat\n\nA képzés kiváló alapot biztosít a Cisco CCNP Data Center képzésekhez és további haladó tanfolyamokhoz. \nKiknek ajánlott a képzés?\nA Cisco Data Center Foundations képzés elsősorban azoknak a szakembereknek szól\, akik adatközponti technológiákkal szeretnének foglalkozni. \nAjánlott többek között: \n\nhálózati mérnököknek\nrendszeradminisztrátoroknak\nadatközponti infrastruktúrával dolgozó IT szakembereknek\nvirtualizációs szakembereknek\nCisco technológiák iránt érdeklődő szakembereknek\n\nA képzés ideális azok számára is\, akik szeretnének Cisco adatközponti karriert építeni. \n\nTechnikai információk\nA résztvevők számára a képzés során saját munkaállomás áll rendelkezésre. \nSaját laptop használata ajánlott\, de nem kötelező.
URL:https://iqedu.hu/tanfolyam/cisco-data-center-foundations-dcfndu-kepzes/
ATTACH;FMTTYPE=image/png:https://iqedu.hu/wp-content/uploads/2025/04/ChatGPT-Image-2026.-marc.-4.-14_55_46.png
END:VEVENT
END:VCALENDAR