BEGIN:VCALENDAR
VERSION:2.0
PRODID:-//IQSOFT - ECPv6.15.20//NONSGML v1.0//EN
CALSCALE:GREGORIAN
METHOD:PUBLISH
X-ORIGINAL-URL:https://iqedu.hu
X-WR-CALDESC:Események IQSOFT
REFRESH-INTERVAL;VALUE=DURATION:PT1H
X-Robots-Tag:noindex
X-PUBLISHED-TTL:PT1H
BEGIN:VTIMEZONE
TZID:Europe/Budapest
BEGIN:DAYLIGHT
TZOFFSETFROM:+0100
TZOFFSETTO:+0200
TZNAME:CEST
DTSTART:20250330T010000
END:DAYLIGHT
BEGIN:STANDARD
TZOFFSETFROM:+0200
TZOFFSETTO:+0100
TZNAME:CET
DTSTART:20251026T010000
END:STANDARD
BEGIN:DAYLIGHT
TZOFFSETFROM:+0100
TZOFFSETTO:+0200
TZNAME:CEST
DTSTART:20260329T010000
END:DAYLIGHT
BEGIN:STANDARD
TZOFFSETFROM:+0200
TZOFFSETTO:+0100
TZNAME:CET
DTSTART:20261025T010000
END:STANDARD
BEGIN:DAYLIGHT
TZOFFSETFROM:+0100
TZOFFSETTO:+0200
TZNAME:CEST
DTSTART:20270328T010000
END:DAYLIGHT
BEGIN:STANDARD
TZOFFSETFROM:+0200
TZOFFSETTO:+0100
TZNAME:CET
DTSTART:20271031T010000
END:STANDARD
END:VTIMEZONE
BEGIN:VEVENT
DTSTART;TZID=Europe/Budapest:20261214T090000
DTEND;TZID=Europe/Budapest:20261215T170000
DTSTAMP:20260424T004012
CREATED:20260220T151418Z
LAST-MODIFIED:20260220T151418Z
UID:26997-1797238800-1797354000@iqedu.hu
SUMMARY:Certified Scrum Product Owner
DESCRIPTION:A Scrum egy agilis termékfejlesztési és munkaszervezési keretrendszer\, amely abban segíti a csapatokat\, hogy valóban sikeres\, az ügyfelek igényeire épülő termékeket hozzanak létre. Bár eredetileg szoftverfejlesztési projektekhez alkalmazták\, mára a Scrum szemlélet és módszertan számos más területen is bizonyított – például üzleti változáskezelésben\, szolgáltatásfejlesztésben\, folyamatfejlesztésben vagy akár szervezeti transzformációkban. \nA Scrum támogatja a lean és agilis elvek bevezetését\, miközben a változások rugalmas kezelésére ösztönöz. Ennek eredményeként javul a minőség\, gyorsabbá válik az értékteremtés\, és növelhető a szervezeti befektetések megtérülése (ROI). \nA Product Owner szerepe – több\, mint projektmenedzsment\nA Product Owner (termékfelelős) nem egyenlő a projektmenedzserrel – és nem is csupán egy új elnevezés a korábbi szerepkörökre. Ez egy összetett\, stratégiai szerep\, amely ötvözi a termékmanagement szemléletet bizonyos klasszikus projektmenedzsment felelősségekkel. \nA Product Owner feladatai közé tartozik: \n\na termékjövőkép (product vision) megalkotása és kommunikálása\na fejlesztési prioritások meghatározása\naz érintettek (stakeholderek) igényeinek összegyűjtése és összehangolása\nszoros együttműködés a fejlesztőcsapattal\na termék üzleti értékének maximalizálása\n\nA képzés célja\,\nhogy a résztvevők megismerjék a Scrum működését a Product Owner nézőpontjából\, és megértsék\, hogyan lehet a szerepkört hatékonyan betölteni a mindennapi gyakorlatban. \nA képzés sikeres elvégzését követően a résztvevők megszerzik a: \n✅ Certified Scrum Product Owner (CSPO) minősítést✅ 2 év Scrum Alliance tagságot \nKinek ajánljuk?\nA képzést elsősorban azoknak ajánljuk\, akik: \n\nProduct Owner szerepkörben dolgoznak vagy erre készülnek\ntermékfejlesztési projektekben vesznek részt üzleti oldalon\nszeretnék jobban átlátni a Scrum termékközpontú működését\n\nAjánlott célcsoportok: \n\nProduct Owner jelöltek\nüzleti elemzők (Business Analysts)\nproduct managerek\, termékmenedzserek\nvezetők\, line managerek\nScrum Masterek\, akik mélyíteni szeretnék tudásukat a termékfelelősi szemléletben
URL:https://iqedu.hu/tanfolyam/cspo-certified-scrum-product-owner-online-kepzes-3-2/
ATTACH;FMTTYPE=image/jpeg:https://iqedu.hu/wp-content/uploads/2026/01/gabriel-carvalho-WqYgZLbDjhQ-unsplash-scaled.jpg
END:VEVENT
BEGIN:VEVENT
DTSTART;TZID=Europe/Budapest:20261217T090000
DTEND;TZID=Europe/Budapest:20261218T170000
DTSTAMP:20260424T004012
CREATED:20260220T145505Z
LAST-MODIFIED:20260220T145505Z
UID:26991-1797498000-1797613200@iqedu.hu
SUMMARY:Certified Scrum Master
DESCRIPTION:A Scrum egy agilis termékfejlesztési keretrendszer\, amelynek célja\, hogy a csapatok sikeres termékeket hozzanak létre\, valóban a felhasználói és üzleti igényekre építve. Bár a Scrum eredetileg a szoftverfejlesztés területén vált ismertté\, ma már számos más területen is eredményesen alkalmazható – például változásmenedzsment vagy nem szoftveres projektek során is. \nA Scrum támogatja a lean és agilis szemlélet bevezetését\, segít rugalmasan kezelni a változásokat\, javítja a termékminőséget\, és hozzájárul a befektetés megtérülésének (ROI) maximalizálásához. Szoftverfejlesztési projektek esetén a Scrum még hatékonyabb\, ha olyan agilis fejlesztési gyakorlatokkal egészül ki\, mint például a test driven development (TDD) vagy a continuous integration (CI). \nA Scrum működésének egyik kulcsszereplője a ScrumMaster\, akinek feladata jelentősen eltér egy klasszikus projektmenedzser szerepétől. A ScrumMaster nem a projekt tervezéséért és kontrolljáért felel\, hanem a csapat önszerveződését támogatja\, és a Product Owner és a fejlesztőcsapat közötti együttműködést optimalizálja a sikeres megvalósítás érdekében. \nA tanfolyam elvégzését követően – az online vizsga sikeres teljesítése esetén – a résztvevők megkapják a „Certified ScrumMaster” (CSM) minősítést. \nA képzés célja\,\nhogy a résztvevők mélyebb megértést szerezzenek a Scrum alapelveiről és gyakorlatairól\, valamint arról\, hogy milyen vezetői és szervezeti változások szükségesek a Scrum sikeres\, hosszú távon fenntartható bevezetéséhez. \nA képzés támogatást nyújt abban is\, hogy a résztvevők átlássák: \n\nmilyen előfeltételek kellenek a Scrum működéséhez\,\nmilyen szervezeti működés és szemlélet segíti a stabil eredményeket\,\nhogyan válik a ScrumMaster a csapat és a szervezet fejlődésének aktív támogatójává.\n\nA tanfolyamot követően (egyéni időbeosztásban) lehetőség van a Scrum Alliance online vizsgájának teljesítésére. Sikeres vizsga esetén a résztvevők: \n✅ megszerzik a Certified ScrumMaster (CSM) címet✅ 2 év Scrum Alliance tagságot kapnak \nKinek ajánljuk?\nA képzés ajánlott mindenkinek\, aki: \n\nmár rendelkezik Scrum alapokkal és szeretné elmélyíteni tudását\,\nagilis vagy Scrum környezetben dolgozik\, és szeretné jobban érteni a keretrendszer működését\,\nScrumMaster szerepkörben dolgozik\, vagy erre a szerepre készül\,\ncsapattagként vagy vezetőként szeretné bővíteni Scrum ismereteit és eszköztárát.\n\nKépzési információk (online)\n\nA képzés online formában\, Zoom felületen kerül megtartásra.\nA résztvevők a tréning előtt egyedi belépési linket kapnak.\nA technikai információkat legkésőbb 24 órával a képzés kezdete előtt küldjük.\nSzükséges technikai feltételek: kamerával rendelkező eszköz és stabil internetkapcsolat.\nA résztvevők angol nyelvű digitális handoutot kapnak.\n\n📌 Fontos: a Scrum Alliance minősítés feltétele\, hogy a résztvevő a képzés teljes időtartamán jelen legyen. \n📌 PMP minősítéssel rendelkezők számára: a képzés óraszáma alapján PDU pontok is elszámolhatók (a PMP kézikönyv alapján).
URL:https://iqedu.hu/tanfolyam/certified-scrum-master-kepzes-3-3-2/
ATTACH;FMTTYPE=image/jpeg:https://iqedu.hu/wp-content/uploads/2026/01/eden-constantino-iJg1YzsEfqo-unsplash-scaled.jpg
END:VEVENT
END:VCALENDAR