BEGIN:VCALENDAR
VERSION:2.0
PRODID:-//IQSOFT - ECPv6.15.20//NONSGML v1.0//EN
CALSCALE:GREGORIAN
METHOD:PUBLISH
X-ORIGINAL-URL:https://iqedu.hu
X-WR-CALDESC:Események IQSOFT
REFRESH-INTERVAL;VALUE=DURATION:PT1H
X-Robots-Tag:noindex
X-PUBLISHED-TTL:PT1H
BEGIN:VTIMEZONE
TZID:Europe/Budapest
BEGIN:DAYLIGHT
TZOFFSETFROM:+0100
TZOFFSETTO:+0200
TZNAME:CEST
DTSTART:20250330T010000
END:DAYLIGHT
BEGIN:STANDARD
TZOFFSETFROM:+0200
TZOFFSETTO:+0100
TZNAME:CET
DTSTART:20251026T010000
END:STANDARD
BEGIN:DAYLIGHT
TZOFFSETFROM:+0100
TZOFFSETTO:+0200
TZNAME:CEST
DTSTART:20260329T010000
END:DAYLIGHT
BEGIN:STANDARD
TZOFFSETFROM:+0200
TZOFFSETTO:+0100
TZNAME:CET
DTSTART:20261025T010000
END:STANDARD
BEGIN:DAYLIGHT
TZOFFSETFROM:+0100
TZOFFSETTO:+0200
TZNAME:CEST
DTSTART:20270328T010000
END:DAYLIGHT
BEGIN:STANDARD
TZOFFSETFROM:+0200
TZOFFSETTO:+0100
TZNAME:CET
DTSTART:20271031T010000
END:STANDARD
END:VTIMEZONE
BEGIN:VEVENT
DTSTART;TZID=Europe/Budapest:20260420T090000
DTEND;TZID=Europe/Budapest:20260423T170000
DTSTAMP:20260423T115009
CREATED:20250417T222112Z
LAST-MODIFIED:20260220T135649Z
UID:22868-1776675600-1776963600@iqedu.hu
SUMMARY:DP-300T00: Administering Microsoft Azure SQL Solutions
DESCRIPTION:A modern adatplatformok üzemeltetése ma már nem korlátozódik kizárólag helyszíni infrastruktúrára. A szervezetek egyre gyakrabban alkalmaznak hibrid vagy teljes mértékben felhőalapú adatbázis-megoldásokat\, amelyek magas rendelkezésre állást\, skálázhatóságot és beépített biztonságot biztosítanak. \nA Microsoft Azure SQL Database Administrator képzés célja\,\nhogy átfogó tudást adjon a SQL Server alapú adatplatformok adminisztrációjához \n\nfelhőben\,\non-premises és\nhibrid környezetben egyaránt.\n\nA tanfolyam során a résztvevők megismerik\n\naz Azure SQL IaaS és PaaS megoldásait\naz adatplatform-erőforrások tervezésének és implementálásának lépéseit\naz adatbázisok migrációs stratégiáit Azure környezetbe\na biztonsági és megfelelőségi követelmények megvalósítását\n\nKiemelt figyelmet kap az Azure SQL Database és az Azure SQL Managed Instance közötti különbségek megértése\, valamint a megfelelő architektúra kiválasztása üzleti igények alapján. A képzés bemutatja\, hogyan lehet SQL workloadokat migrálni Azure-ba\, miközben minimalizáljuk a leállási időt és az üzleti kockázatokat. \nA résztvevők megtanulják\, hogyan alakítsanak ki biztonságos adatbázis-környezetet\, beleértve a hitelesítési és jogosultságkezelési mechanizmusokat\, az adatvédelem megoldásait (titkosítás átvitel közben és nyugalmi állapotban)\, valamint az érzékeny adatokra vonatkozó megfelelőségi kontrollokat. \nA képzés kitér a teljesítmény monitorozására és optimalizálására\, a lekérdezések finomhangolására\, az automatizációs megoldásokra\, valamint a magas rendelkezésre állás és katasztrófa-helyreállítás (HADR) stratégiák megvalósítására. \nEz a képzés ideális adatbázis-adminisztrátorok\, adatplatform szakemberek\, adatarchitekták és alkalmazásfejlesztők számára\, akik szeretnék megérteni az Azure adatplatform technológiáit és hatékonyan adminisztrálni SQL-alapú adatbázis-környezeteket felhőben és hibrid infrastruktúrában.
URL:https://iqedu.hu/tanfolyam/microsoft-azure-sql-database-administrator-kepzes/
ATTACH;FMTTYPE=image/png:https://iqedu.hu/wp-content/uploads/2025/04/ChatGPT-Image-2026.-febr.-20.-14_53_45.png
END:VEVENT
BEGIN:VEVENT
DTSTART;TZID=Europe/Budapest:20260420T090000
DTEND;TZID=Europe/Budapest:20260423T170000
DTSTAMP:20260423T115009
CREATED:20250417T222333Z
LAST-MODIFIED:20260220T144448Z
UID:22905-1776675600-1776963600@iqedu.hu
SUMMARY:PL-600T00: Power Platform Solution Architect
DESCRIPTION:A digitális megoldások sikeres bevezetése nem csupán technológiai kérdés. A valódi értéket az átgondolt architektúra\, a megfelelő döntések és az üzleti célokhoz illeszkedő tervezés teremti meg. A Power Platform Solution Architect képzés célja\, hogy felkészítse a résztvevőket a teljes körű megoldásarchitektúra tervezésére\, implementálására és bevezetésére Microsoft Power Platform környezetben. \nA Solution Architect felelőssége\, hogy a megoldás ne csak technikailag működjön\, hanem hosszú távon is támogassa az ügyfél üzleti céljait. \nA képzés során a résztvevők megismerik\n\na Solution Architect szerepkörét és felelősségi köreit\na követelmények üzleti és technikai szempontú elemzését\naz architekturális döntések hatását biztonságra\, integrációra és skálázhatóságra\na Power Apps és Power Automate architektúra tervezési elveit\n\nKiemelt figyelmet kap\n\na projektirányítás\,\na governance\,\naz Application Lifecycle Management (ALM)\,\naz adatmodellezés\,\na biztonsági és integrációs stratégiák kialakítása.\n\nA résztvevők megtanulják\, hogyan kell komplex Power Platform és Dynamics 365 megoldásokat megtervezni\, hogyan kezeljék az integrációkat külső rendszerekkel\, és miként biztosítsák az adatbiztonságot és megfelelőséget. \nA tanfolyam kitér az analitika\, a mesterséges intelligencia\, a Power BI\, a Power Virtual Agents és a Robotic Process Automation (RPA) architekturális megközelítésére is. A képzés gyakorlati feladatokon keresztül segíti a döntéshozatali készségek fejlesztését\, valamint a stratégiai gondolkodásmód kialakítását. \nEz a képzés ideális senior funkcionális és technikai tanácsadók számára\, akik Solution Architect szerepkörbe szeretnének lépni\, illetve olyan jelenlegi Solution Architectek számára\, akik strukturáltabb módszertant szeretnének alkalmazni Power Platform környezetben.
URL:https://iqedu.hu/tanfolyam/microsoft-power-platform-solution-architect-kepzes/
ATTACH;FMTTYPE=image/png:https://iqedu.hu/wp-content/uploads/2025/04/ChatGPT-Image-2026.-febr.-20.-15_44_03.png
END:VEVENT
BEGIN:VEVENT
DTSTART;TZID=Europe/Budapest:20260420T090000
DTEND;TZID=Europe/Budapest:20260424T170000
DTSTAMP:20260423T115009
CREATED:20250417T212612Z
LAST-MODIFIED:20260303T114412Z
UID:22640-1776675600-1777050000@iqedu.hu
SUMMARY:Implementing and Operating Cisco Enterprise Network Core Technologies
DESCRIPTION:A Cisco ENCOR (350-401) képzés átfogó és mélyreható tudást biztosít a modern vállalati hálózati infrastruktúrák tervezéséhez\, bevezetéséhez és üzemeltetéséhez. A program a nagyvállalati környezetekben használt core technológiákra épül. A résztvevők megismerik a vezetékes és vezeték nélküli hálózatok működését\, valamint a skálázható\, biztonságos architektúrák kialakításának módszereit. \nA képzés kiemelten foglalkozik a hálózati biztonság alapelveivel. Emellett hangsúlyt kap az automatizálás és a programozhatóság. A tanfolyam bemutatja\, hogyan illeszthetők a modern API-alapú megoldások a vállalati infrastruktúrába. \nA program teljes körű felkészítést nyújt a 350-401 ENCOR v1.1 vizsgára.A sikeres vizsga megszerzésével a résztvevők: \n\nCisco Certified Specialist – Enterprise Core minősítést szereznek\nTeljesítik a CCNP Enterprise minősítés core vizsgakövetelményét\nElindulhatnak a CCIE Enterprise Infrastructure és CCIE Enterprise Wireless irányába\n\nA képzés további előnye\, hogy 64 Continuing Education (CE) kreditet biztosít az újraminősítéshez. \nKinek ajánljuk?\nA tanfolyam ideális választás: \n\nHálózati mérnökök számára\nRendszermérnökök számára\nHálózati üzemeltetőknek\nCCNP vagy CCIE minősítésre készülő szakembereknek\n\nA képzés célja\nA résztvevők képesek lesznek vállalati hálózatok önálló tervezésére és üzemeltetésére. A program során elsajátítják: \n\nA hierarchikus hálózati modell alkalmazását\nVLAN és trunking problémák diagnosztizálását\nSTP és RSTP alapú redundáns topológiák kialakítását\nOSPFv2\, OSPFv3 és EIGRP konfigurálását és optimalizálását\nEBGP alapú interdomain routing megvalósítását\nHSRP és VRRP redundancia bevezetését\nStatikus és dinamikus NAT konfigurálását\nVRF\, GRE\, VPN és SD-Access technológiák alkalmazását\nVezeték nélküli hálózatok konfigurálását és hibakeresését\nQoS és multicast protokollok bevezetését\nCisco IOS eszközök biztonságos adminisztrációját\nAAA és ACL megoldások konfigurálását\nPython alapú hálózati automatizálást\nNETCONF és RESTCONF protokollok használatát\n\nA képzés végére a résztvevők magabiztosan kezelik a vállalati hálózatok legfontosabb core technológiáit\, és felkészülten vágnak neki a Cisco minősítő vizsgának.
URL:https://iqedu.hu/tanfolyam/cisco-encor-350-401-v1-1-vallalati-halozati-alaptechnologiak/
ATTACH;FMTTYPE=image/png:https://iqedu.hu/wp-content/uploads/2025/04/ChatGPT-Image-2026.-marc.-3.-12_41_03.png
END:VEVENT
BEGIN:VEVENT
DTSTART;TZID=Europe/Budapest:20260423T090000
DTEND;TZID=Europe/Budapest:20260423T170000
DTSTAMP:20260423T115009
CREATED:20250417T214611Z
LAST-MODIFIED:20260202T114115Z
UID:22739-1776934800-1776963600@iqedu.hu
SUMMARY:SAP Haladó LicencAkadémia
DESCRIPTION:Az SAP szoftverlicencek a legtöbb nagyvállalat IT költségvetésében jelentős kiadást jelentenek. A megfelelő licencstratégia és a szerződéses feltételek pontos ismerete azonban komoly lehetőséget ad arra\, hogy a vállalat átláthatóbban tervezzen\, és akár költséget is csökkentsen – miközben a működés biztonsága és megfelelősége is megmarad. \nA SAP Haladó LicencAkadémia képzés abban segít\, hogy a résztvevők megértsék az SAP licencelési megállapodások logikáját\, eligazodjanak a klasszikus és modern licencmodellek között\, és képesek legyenek támogatni a szervezetet a S/4HANA átállás\, a HANA Cloud vagy a RISE with SAP kapcsán felmerülő licenc- és szerződéses kérdésekben. \nA képzés online formában zajlik\, gyakorlatorientált szemlélettel\, kifejezetten olyan szakembereknek\, akik felelősek a licencelési döntések előkészítéséért vagy a vállalati SAP környezet költséghatékony működtetéséért. \nA képzés célja\,\nhogy a résztvevők: \n\nátfogó képet kapjanak az SAP licencelési modellek működéséről\,\nmegértsék az SAP stratégiai irányait és azok hatását a licencelésre\,\nfelismerjék az optimalizációs lehetőségeket a szervezet SAP környezetében\,\nmagabiztosabban kezeljék az SAP szerződéses dokumentumokat és licencelési megállapodásokat\,\nfelkészüljenek az S/4HANA licenc- és szerződés transzformáció tervezésére.\n\nKinek ajánljuk?\nA képzést ajánljuk mindazoknak\, akik: \n\nSAP licenceléssel\, szerződésekkel vagy költségtervezéssel foglalkoznak\,\nrészt vesznek SAP rendszerek üzemeltetésében vagy beszerzésében\,\nérintettek az S/4HANA átállás\, HANA Cloud vagy RISE with SAP projektekben\,\nszeretnék jobban érteni az indirekt hozzáférés és a digitális hozzáférés kérdéskörét\,\na vállalat licencportfóliójának optimalizálásában kapnak szerepet
URL:https://iqedu.hu/tanfolyam/sap-halado-licencakademia/
ATTACH;FMTTYPE=image/png:https://iqedu.hu/wp-content/uploads/2025/04/ChatGPT-Image-2026.-febr.-2.-12_40_04.png
END:VEVENT
BEGIN:VEVENT
DTSTART;TZID=Europe/Budapest:20260427T090000
DTEND;TZID=Europe/Budapest:20260428T170000
DTSTAMP:20260423T115009
CREATED:20251217T092637Z
LAST-MODIFIED:20260220T122650Z
UID:26393-1777280400-1777395600@iqedu.hu
SUMMARY:AZ-900T00-A: Microsoft Azure Fundamentals
DESCRIPTION:Ez a tanfolyam alapozó szintű ismereteket nyújt a felhőszolgáltatások működéséről\, valamint bemutatja a Microsoft Azure legfontosabb alapfogalmait és szolgáltatásait.A képzés kitér az Azure felügyeleti\, szabályozási és irányítási funkcióira\, amelyek elengedhetetlenek egy modern felhőalapú környezet megértéséhez. \nA tanfolyam célja\, hogy a résztvevők átfogó képet kapjanak arról\, mi a felhő\, hogyan működik az Azure\, és milyen alapvető szolgáltatások érhetők el benne. \nMit nyújt a képzés?\nA képzés során a résztvevők: \n\nmegismerkednek a felhőalapú számítástechnika alapfogalmaival\náttekintik az Azure alapvető szolgáltatásait\ngyakorlati tapasztalatot szereznek az Azure Portal használatában\nmegismerik az Azure felügyeleti és szabályozási eszközeit\nképet kapnak az Azure környezet biztonsági és megfelelőségi alapjairól\n\nA tanfolyam az előadásokat\, bemutatókat és gyakorlati tesztkörnyezeteket ötvözi\, így biztosítva a stabil alapok elsajátítását. \nA képzés célja\nA tanfolyam célja\, hogy a résztvevők: \n\nmegértsék a felhőszolgáltatások működését és előnyeit\nképesek legyenek eligazodni az Azure szolgáltatásportfóliójában\nmagabiztosan használják az Azure Portalt és az alapvető parancssori eszközöket\nmegfelelő alapokkal rendelkezzenek további\, szerepköralapú Azure képzésekhez\n\nA tanfolyam nem igényel szkriptelési vagy programozási ismereteket. \nKiknek ajánljuk?\nA képzés ideális választás: \n\ninformatikai munkatársaknak\, akik most ismerkednek az Azure-rel\npályakezdő IT szakembereknek\nrendszergazdáknak és üzemeltetőknek\, akik felhőalapú irányba szeretnének továbbfejlődni\nmindazoknak\, akik Azure tanúsítványok megszerzését tervezik\n\nA tanfolyam elvégzése után a résztvevők magabiztosan folytathatják tanulmányaikat például Azure rendszergazdai (Administrator) képzéseken. \nVizsgafelkészítés\nA tanfolyam felkészít az AZ-900 – Microsoft Azure Fundamentals vizsgára\, amely az Azure világába való belépés hivatalos minősítése.
URL:https://iqedu.hu/tanfolyam/azure-felhoalapok-tanfolyam/
ATTACH;FMTTYPE=image/jpeg:https://iqedu.hu/wp-content/uploads/2025/12/praswin-prakashan-CxEUOs20Gec-unsplash-scaled.jpg
END:VEVENT
BEGIN:VEVENT
DTSTART;TZID=Europe/Budapest:20260427T090000
DTEND;TZID=Europe/Budapest:20260428T170000
DTSTAMP:20260423T115009
CREATED:20260126T080142Z
LAST-MODIFIED:20260126T080142Z
UID:26670-1777280400-1777395600@iqedu.hu
SUMMARY:AI Act képzés
DESCRIPTION:Az EU AI Act az első átfogó\, kötelező erejű európai uniós mesterségesintelligencia-szabályozás\, amely minden olyan szervezetet érint\, amely AI-t fejleszt\, bevezet\, üzemeltet vagy használ. A jogszabály célja\, hogy a mesterséges intelligencia biztonságos\, átlátható és felelős alkalmazása megvalósuljon – kockázatalapú megközelítéssel\, jól meghatározott kötelezettségekkel és ellenőrizhető megfelelési elvárásokkal. \nAz EU AI Act képzés gyakorlatorientált módon mutatja be a jogszabály kialakulásának hátterét\, célrendszerét és logikáját. Részletesen ismerteti az AI Act felépítését\, fogalomrendszerét és kockázati kategóriáit. \nA résztvevők megértik\, hogy \n\nmilyen kötelezettségek vonatkoznak a fejlesztőkre és a felhasználókra\,\nmilyen dokumentációs és átláthatósági követelmények szükségesek a megfeleléshez\,\nhogyan jelenik meg mindez a magyar végrehajtási környezetben.\n\nA képzés során végig gyakorlati példákon keresztül dolgozunk: AI-rendszerek besorolásával\, compliance checklist készítésével\, érintettségi térkép felállításával és hatósági ellenőrzési szituációk szimulációjával – hogy a tudás azonnal alkalmazható legyen a szervezeti gyakorlatban. \nA képzés célja\,\nhogy a résztvevők átfogó\, ugyanakkor könnyen értelmezhető és gyakorlatközpontú képet kapjanak az EU AI Act szabályozásáról\, különösen: \n\na jogszabály logikájáról és szerkezetéről\,\naz AI rendszerek kockázatalapú besorolásáról\,\na fejlesztőkre\, forgalmazókra és felhasználókra vonatkozó megfelelési kötelezettségekről\,\na szükséges dokumentációs és átláthatósági elvárásokról\,\nvalamint a magyar végrehajtási szabályozás főbb sajátosságairól.\n\nMinden modul gyakorlati feladattal zárul\, amelyet az oktatóval közösen ki is értékelünk – így a tanultak nem elméleti szinten maradnak\, hanem valóban beépülnek a gondolkodásba. \nA képzés végére képes leszel\n✅ azonosítani és besorolni AI-megoldásokat az EU AI Act alapján✅ felismerni saját szervezetük érintettségét és kockázati szerepét✅ alapvető AI compliance lépéseket megtervezni✅ felkészülni hatósági ellenőrzésekre\, auditokra és jogi eljárásokra✅ átlátni\, milyen dokumentáció szükséges a megfeleléshez \nGyakorlati feladatok a képzés során\nA képzés egyik legnagyobb előnye\, hogy nemcsak magyarázza a szabályozást\, hanem konkrét feladatokon keresztül segít alkalmazni azt: \n\nAI-esetek besorolása kockázati kategóriák szerint\ncompliance checklist összeállítása\nszervezeti érintettségi térkép felépítése\nhatósági ellenőrzési helyzetek szimulációja\ntipikus megfelelési hibák és kockázatok felismerése\n\nKinek ajánljuk?\nAz EU AI Act képzést elsősorban azoknak ajánljuk\, akiknek munkájában az AI rendszerek már megjelennek\, vagy várhatóan rövid időn belül szerepet kapnak – és fontos számukra a jogszerű\, átlátható működés. \nAjánlott célcsoportok: \n\nvállalati és intézményi vezetők\, döntéshozók\njogi\, compliance és adatvédelmi szakemberek\nIT\, digitalizációs és innovációs vezetők\nAI-megoldásokat fejlesztő vagy alkalmazó fejlesztők és termékmenedzserek\nközszféra és szabályozott ágazatok munkatársai (pl. pénzügy\, egészségügy\, HR)\n\n✅ A képzés nem igényel mély technikai AI-ismereteket\, mégis biztos alapot ad ahhoz\, hogy a résztvevők értsék a szabályozás működését és a megfelelés lépéseit.
URL:https://iqedu.hu/tanfolyam/eu-ai-act-kepzes-ai-compliance-2/
ATTACH;FMTTYPE=image/jpeg:https://iqedu.hu/wp-content/uploads/2026/01/steve-johnson-ZPOoDQc8yMw-unsplash-scaled.jpg
END:VEVENT
BEGIN:VEVENT
DTSTART;TZID=Europe/Budapest:20260427T090000
DTEND;TZID=Europe/Budapest:20260429T170000
DTSTAMP:20260423T115009
CREATED:20251209T142941Z
LAST-MODIFIED:20260126T091930Z
UID:26236-1777280400-1777482000@iqedu.hu
SUMMARY:Incidensmenedzsment képzés TÜV vizsgával (Incidensek kezelése ISO/IEC 27035 alapokon)
DESCRIPTION:Az incidenskezelés képzés célja\, hogy a résztvevők megismerjék azokat a koncepciókat\, módszereket\, eszközöket és technikákat\, amelyek segítségével hatékonyan kezelhetők a különböző típusú incidensek – nemcsak az IT biztonsági területeken\, hanem más üzleti vagy támogató szervezeti egységekben is. \nA program átfogó képet nyújt az incidensmenedzsment szerepéről\, a kapcsolódó folyamatokról és azokról a szabványokról\, amelyek meghatározzák a korszerű elvárásokat. \nAz incidenskezelés képzés céljai\n1. Incidenskezelési koncepciók és módszerek elsajátítása \nA résztvevők megismerik az incidenskezelési folyamatok alapjait\, az alkalmazható technikákat és a hatékony működtetéshez szükséges módszereket. \n2. Szervezeti kapcsolatok és együttműködés megértése \nA képzés bemutatja\, hogyan kapcsolódik az incidensmenedzsment más területekhez\, például az IT üzemeltetéshez\, információbiztonsághoz vagy minőségirányításhoz. \n3. Szabványokhoz kötődő elvárások megismerése \nA résztvevők megértik az incidenskezelés és a nagyvállalati keretrendszerek kapcsolatát: \n\nITIL és ISO/IEC 20000-1 – szolgáltatásirányítási szemlélet\nISO/IEC 27001 – információbiztonsági követelmények\nISO 9001 – minőségirányítási megközelítés\n\n4. Incidenskezelési tervezés és gyakorlati alkalmazás \nA tanfolyam gyakorlati lépéseket mutat be az incidenskezelési folyamatok és eljárások kialakításához és működtetéséhez. \n5. Incidenskezelési szervezet felépítése \nA hallgatók megtanulják\, hogyan alakítható ki egy hatékony Incident Response Team (IRT)\, és milyen szerepek\, felelősségek szükségesek a működéséhez. \nKinek ajánljuk a képzést?\nA tanfolyamot kifejezetten olyan szakembereknek ajánljuk\, akik incidenskezelési vagy IT-biztonsági feladatokat látnak el\, illetve részt vesznek az incidensmenedzsment kialakításában vagy működtetésében. \nA képzés ideális többek között: \n\nCIO / CISO vezetőknek\nInformációvédelmi incidensmenedzsereknek\nIT üzemeltetési incidensmenedzsereknek\nIT menedzsereknek\nIT auditoroknak\nIRT tagoknak (Incident Response Team)\nIT kockázatmenedzsereknek\nSenior rendszeradminisztrátoroknak\nHálózati szakembereknek\nProblémamenedzsereknek\n\nA képzési díj tartalmazza a TÜV vizsga és tanúsítvány árát is. Sikeres vizsga esetén a TÜV tanúsítvány magyar\, angol\, vagy német nyelven kérhető. A tanúsítvány elkészítése hozzávetőleg 4 hetet vesz igénybe.
URL:https://iqedu.hu/tanfolyam/incidenskezeles-kepzes-tuv-vizsgaval-incidensek-kezelese-iso-iec-27035-alapokon-2/
ATTACH;FMTTYPE=image/jpeg:https://iqedu.hu/wp-content/uploads/2025/04/sasun-bughdaryan-2T4l02ZYj-k-unsplash-scaled.jpg
END:VEVENT
BEGIN:VEVENT
DTSTART;TZID=Europe/Budapest:20260427T090000
DTEND;TZID=Europe/Budapest:20260429T170000
DTSTAMP:20260423T115009
CREATED:20251212T131034Z
LAST-MODIFIED:20251215T101728Z
UID:26327-1777280400-1777482000@iqedu.hu
SUMMARY:ITIL®4 Strategist: Direct\, Plan and Improve with exam
DESCRIPTION:Az ITIL®4 Strategist: Direct\, Plan and Improve (DPI) egy 3 napos\, stratégiai fókuszú képzési modul\, amely az IT-szervezetek irányításának\, tervezésének és folyamatos továbbfejlesztésének kérdéseivel foglalkozik.A tanfolyam olyan ismereteket és módszereket ad át\, amelyek segítségével egy IT-szervezet tanuló- és fejlődőképes szervezetté válhat\, miközben erős és következetes stratégiai irányvonallal rendelkezik. \nA tanfolyam célja\nAz ITIL®4 DPI képzés célja\, hogy az ITIL® gyakorlati szakemberei és vezetői: \n\nmegértsék az irányítás\, tervezés és továbbfejlesztés alapfogalmait\,\nképesek legyenek a rendszeres továbbfejlesztések agilis megtervezésére és megvalósítására\,\nintegrálják az agilis és lean megközelítéseket az IT-szervezeti működésbe\,\nstratégiai és operatív szinten is hatékonyan irányítsák az IT-szolgáltatásokat.\n\nA képzés kiemelt hangsúlyt fektet arra\, hogyan lehet a stratégiai célokat a napi működésbe lefordítani\, és folyamatos fejlődést biztosítani. \nMit sajátítanak el a résztvevők?\nA tanfolyam során a résztvevők megértik és alkalmazni tudják: \n\naz irányítás\, tervezés és továbbfejlesztés kulcsfogalmait\,\naz értékfolyamok és szervezeti képességek szerepét\,\naz irányítás és tervezés hatókörét és felelősségi szintjeit\,\na rendszeres továbbfejlesztés (Continual Improvement) módszereit\,\na kommunikáció és szervezeti változásmenedzsment (OCM) eszközeit\,\na mérés és jelentéskészítés alapelveit\,\naz igazgatás\, kockázat és megfelelés (GRC) integrálását a szolgáltatási értékrendszerbe.\n\nKiknek ajánljuk az ITIL®4 DPI tanfolyamot?\nA képzést elsősorban azoknak ajánljuk\, akik: \nVezetői és stratégiai szerepkörben: \n\nrészt vesznek a szervezet irányvonalának és stratégiájának kialakításában\,\nállandóan fejlődő csapatokat irányítanak vagy hoznak létre\,\ndöntéshozatali és irányítási felelősséggel rendelkeznek.\n\nSzakmai fejlődést kereső szakembereknek: \n\nIT-szolgáltatásmenedzserek\,\nprojektmenedzserek\,\nüzleti elemzők\,\nITSM-szakemberek\,\nmindazok\, akik az ITIL® Managing Professional és/vagy az ITIL® Strategic Leader cím megszerzését tűzték ki célul.\n\nSzervezeti előnyök\n\nJavuló szervezeti és szolgáltatási teljesítmény\nHatékonyabb működés és irányítás\nTudatos\, képzett munkatársak\nErősebb stratégiai fókusz digitális környezetben\n\nEgyéni előnyök\n\nNemzetközileg elismert\, piacképes minősítés\nKorszerű tudás az IT-szolgáltatások irányításáról és fejlesztéséről\nTudatosabb stratégiai és vezetői szemlélet\n\nMegszerezhető minősítés\nITIL®4 Strategist: Direct\, Plan and Improve \nEz a modul közös eleme az alábbi minősítési utaknak: \n\nITIL® Managing Professional\nITIL® Strategic Leader\n\nA DPI-minősítés megszerzése előfeltétele az ITIL® Managing Professional címnek\, és igazolja a szakember felkészültségét stratégiai és operatív IT-szolgáltatásmenedzsment területen. \nOktatási módszertan\nA 3 napos képzés az alábbi elemekre épül: \n\nrövid\, interaktív előadások\,\nkreatív és csoportos gyakorlatok\,\nvizsgaszimulációs házi feladatok\,\nfolyamatos visszajelzés és összefoglalás.\n\nA képzés során biztosított tananyag\n\nElőzetes ismerkedő anyag (angol nyelven) – elektronikus\nTeljes tanfolyami kézikönyv (~300 oldal\, angol nyelven) – elektronikus\nHivatalos TSO ITIL®4 DPI kézikönyv – elektronikus\nITIL®4 DPI fogalomjegyzék (angol–magyar) – nyomtatható\nMintavizsgakérdések megoldásokkal – nyomtatható\nGyakorlatok és mintamegoldások – nyomtatható\n\nITIL®4 DPI vizsga – fontos tudnivalók\nA tanfolyam ára tartalmazza a hivatalos\, távolról felügyelt online vizsga díját (angol nyelven). \nVizsga jellemzői: \n\nIdőtartam: 90 perc (+15 perc nem angol anyanyelvűeknek)\nKérdések száma: 40 feleletválasztós kérdés\nSegédeszköz: nem használható\nÉrtékelés: 1 pont / helyes válasz (max. 40 pont)\nSikeresség: 70% (28 pont)\n\nTAKE2 pótvizsga opció \nIgényelhető a tanfolyam megrendelésekorFelár: 20.000 Ft + áfa (47\,5 EUR)Sikertelen első vizsga esetén +1 vizsgalehetőség. \nA vizsgát minden esetben a PeopleCert biztosítja.
URL:https://iqedu.hu/tanfolyam/itil4-strategist-direct-plan-improve-tanfolyam-2-2/
ATTACH;FMTTYPE=image/png:https://iqedu.hu/wp-content/uploads/2025/03/ITIL-4-Strategist-Direct-Plan-Improve.png
END:VEVENT
BEGIN:VEVENT
DTSTART;TZID=Europe/Budapest:20260428T090000
DTEND;TZID=Europe/Budapest:20260430T170000
DTSTAMP:20260423T115009
CREATED:20260127T130952Z
LAST-MODIFIED:20260127T130952Z
UID:26764-1777366800-1777568400@iqedu.hu
SUMMARY:Security Engineering on AWS
DESCRIPTION:Az AWS Security képzés célja\, hogy a résztvevők átfogó és gyakorlatias képet kapjanak arról\, hogyan lehet hatékonyan megvédeni az AWS Cloud környezetben futó alkalmazásokat és adatokat. A tréning az AWS által ajánlott biztonsági elvekre és best practice-ekre épül\, és bemutatja\, hogyan alkalmazhatók ezek valós környezetben. \nA képzés során a résztvevők megismerik az AWS megosztott felelősségű biztonsági modelljét\, az adatvédelem\, a titkosítás\, a hozzáférés-kezelés\, a monitorozás és az incidenskezelés legfontosabb módszereit. A hangsúly az automatizálható\, skálázható és folyamatosan ellenőrizhető biztonsági megoldásokon van. \nA képzés célja\nA képzés végére a résztvevők képesek lesznek: \n\nalkalmazni az AWS megosztott felelősségű biztonsági modellt\,\nbiztonságos alkalmazás-infrastruktúrát tervezni és építeni az AWS-ben\,\ntitkosítással védeni az adatokat tárolás és adatátvitel közben\,\nautomatizált és ismétlődő biztonsági ellenőrzéseket végrehajtani\,\nhitelesítést és jogosultságkezelést konfigurálni AWS erőforrásokhoz és alkalmazásokhoz\,\nnaplózás és monitorozás segítségével részletes eseményinformációkat gyűjteni és elemezni\,\nazonosítani és elhárítani a külső biztonsági fenyegetéseket\,\nbiztonsági értékeléseket végezni a sérülékenységek megszüntetése és a szabványoknak való megfelelés érdekében.\n\nKinek ajánljuk?\nA képzést elsősorban az alábbi szakemberek számára ajánljuk: \n\nIT biztonsági mérnököknek\nBiztonsági architektáknak\nSecurity Operations (SecOps) szakértőknek\nInformációbiztonsági szakembereknek\nminden olyan IT szakembernek\, aki AWS környezetben felel az infrastruktúra és adatok védelméért\n\n\nEz a képzés ideális választás mindazok számára\, akik szeretnék megerősíteni az AWS környezet biztonságát\, automatizálni a védelmi folyamatokat\, és az AWS által ajánlott best practice-ek alapján kialakítani egy megbízható\, skálázható és auditálható felhőbiztonsági megoldást.
URL:https://iqedu.hu/tanfolyam/aws-security-kepzes/
ATTACH;FMTTYPE=image/jpeg:https://iqedu.hu/wp-content/uploads/2026/01/rubaitul-azad-J0eqDgSQDYg-unsplash.jpg
END:VEVENT
BEGIN:VEVENT
DTSTART;TZID=Europe/Budapest:20260429T090000
DTEND;TZID=Europe/Budapest:20260430T170000
DTSTAMP:20260423T115009
CREATED:20251209T135914Z
LAST-MODIFIED:20260319T131332Z
UID:26229-1777453200-1777568400@iqedu.hu
SUMMARY:Üzletmenet-folytonosság vezető auditor képzés az új ISO 22301:2019 szabvány szerint TÜV vizsgával
DESCRIPTION:Az új ISO 22301:2019 szabvány az üzletmenet-folytonossági irányítási rendszerek egyik legfontosabb keretrendszere. A tanfolyam célja\, hogy a résztvevők átfogó ismereteket szerezzenek a szabvány szerkezetéről\, követelményeiről és az auditorok által alkalmazott módszerekről. A képzés magába foglalja a TÜV által akkreditált vizsga lehetőségét\, amely sikeres teljesítés után nemzetközileg elismert tanúsítványt biztosít. \nA képzés célja\nA résztvevők elsajátítják azokat a technikákat\, amelyek segítségével nemcsak a klasszikus üzleti folyamatok\, hanem a kapcsolódó IT üzemeltetési\, információbiztonsági és adatvédelmi területek üzletmenet-folytonossági gyakorlatát is képesek értékelni. \nA képzés támogatja egy integrált irányítási rendszer kialakítását és fejlesztését\, valamint felkészít: \n\n\nbelső auditok lefolytatására\, \n\n\nbeszállítói értékelésekre\, \n\n\ntanúsítói auditok támogatására\, \n\n\nvalamint üzletmenet-folytonosság szempontú kockázatok azonosítására és kezelésére. \n\n\nA program holisztikus megközelítést nyújt\, hiszen az üzletmenet-folytonosság csak akkor valósulhat meg hatékonyan\, ha a szervezet támogató folyamatai (IT üzemeltetés\, információbiztonság\, adatvédelem) összehangoltan működnek. \nA résztvevők megismerik az ISO 22301:2019 szabvány követelményeit és a kapcsolódó auditálási technikákat – mindezt gyakorlatorientált\, auditori szemlélettel. \nKinek ajánljuk a képzést?\nA tanfolyam ideális választás minden olyan szakember számára\, aki az üzletmenet-folytonosság területén dolgozik\, illetve felelősséggel tartozik a szervezet működésének fenntartásáért. \nKifejezetten ajánljuk: \n\n\nüzletmenet-folytonossági (BCM) szakembereknek\, \n\n\nIT üzemeltetési és információbiztonsági vezetőknek\, \n\n\nirányítási rendszerekkel foglalkozó munkatársaknak\, \n\n\nauditokban részt vevő vagy auditor munkakörre készülő szakembereknek\, \n\n\nminden olyan terület képviselőjének\, ahol kritikus folyamatok fenntartása kiemelt feladat. \n\n\nKépzési információk\nKépzés hossza: 4 nap \nVizsga típusa: Írásbeli \nMegszerezhető dokumentum: Üzletmenet-folytonosság vezető auditor tanúsítvány (TÜV) \nA képzés utolsó két napja: 2026. 05. 05–06. \nA képzési díj tartalmazza a TÜV vizsga és tanúsítvány árát is. Sikeres vizsga esetén a TÜV tanúsítvány magyar\, angol\, vagy német nyelven kérhető. A tanúsítvány elkészítése hozzávetőleg 4 hetet vesz igénybe.
URL:https://iqedu.hu/tanfolyam/uzletmenet-folytonossag-vezeto-auditor-kepzes-az-uj-iso-223012019-szabvany-szerint-tuv-vizsgaval/
ATTACH;FMTTYPE=image/jpeg:https://iqedu.hu/wp-content/uploads/2025/11/campaign-creators-gMsnXqILjp4-unsplash-1-scaled.jpg
END:VEVENT
END:VCALENDAR